BEGIN:VCALENDAR
VERSION:2.0
CALSCALE:GREGORIAN
PRODID:-//WordPress//RSVPMaker//EN
METHOD:REQUEST
BEGIN:VEVENT
DTSTAMP:20260423T050156Z
UID:993E2921B4681AF69DD9C0BAEB9225E2@rsvpmaker.com
SEQUENCE:0
STATUS:CONFIRMED
DTSTART:20190402T010000Z
DTEND:20190401T170000Z
LOCATION:See\: http\://www.groceryshrink.com/rsvpmaker/chat-with-a-tra
 iner-fat-loss-2019-04-01/
SUMMARY:Chat with a Trainer: Fat Loss
DESCRIPTION:Event info\: http\://www.groceryshrink.com/rsvpmaker/chat-
 with-a-trainer-fat-loss-2019-04-01/
END:VEVENT
END:VCALENDAR